BEGIN:VCALENDAR
VERSION:2.0
PRODID:-//hacksw/handcal//NONSGML v1.0//EN
CALSCALE:GREGORIAN
BEGIN:VEVENT
LOCATION:
DESCRIPTION:
DTSTART:20260423T000000Z
DTEND:20260423T132334Z
SUMMARY:SANT JORDI 2026
URL;VALUE=URI:https://bibliotecacancasas.cat/node/1224
DTSTAMP:20260423T132334Z
UID:69ea01364eb14
END:VEVENT
END:VCALENDAR